BEGIN:VCALENDAR
VERSION:2.0
PRODID:-//Ulverston Cricket Club - ECPv6.15.17.1//NONSGML v1.0//EN
CALSCALE:GREGORIAN
METHOD:PUBLISH
X-ORIGINAL-URL:https://www.ulverstoncc.co.uk
X-WR-CALDESC:Events for Ulverston Cricket Club
REFRESH-INTERVAL;VALUE=DURATION:PT1H
X-Robots-Tag:noindex
X-PUBLISHED-TTL:PT1H
BEGIN:VTIMEZONE
TZID:Europe/London
BEGIN:DAYLIGHT
TZOFFSETFROM:+0000
TZOFFSETTO:+0100
TZNAME:BST
DTSTART:20250330T010000
END:DAYLIGHT
BEGIN:STANDARD
TZOFFSETFROM:+0100
TZOFFSETTO:+0000
TZNAME:GMT
DTSTART:20251026T010000
END:STANDARD
BEGIN:DAYLIGHT
TZOFFSETFROM:+0000
TZOFFSETTO:+0100
TZNAME:BST
DTSTART:20260329T010000
END:DAYLIGHT
BEGIN:STANDARD
TZOFFSETFROM:+0100
TZOFFSETTO:+0000
TZNAME:GMT
DTSTART:20261025T010000
END:STANDARD
BEGIN:DAYLIGHT
TZOFFSETFROM:+0000
TZOFFSETTO:+0100
TZNAME:BST
DTSTART:20270328T010000
END:DAYLIGHT
BEGIN:STANDARD
TZOFFSETFROM:+0100
TZOFFSETTO:+0000
TZNAME:GMT
DTSTART:20271031T010000
END:STANDARD
END:VTIMEZONE
BEGIN:VEVENT
DTSTART;TZID=Europe/London:20260711T130000
DTEND;TZID=Europe/London:20260711T190000
DTSTAMP:20260422T133241
CREATED:20260403T153242Z
LAST-MODIFIED:20260403T153242Z
UID:7422-1783774800-1783796400@www.ulverstoncc.co.uk
SUMMARY:1st XI Away to Coniston
DESCRIPTION:1st XI Away to Coniston
URL:https://www.ulverstoncc.co.uk/event/1st-xi-away-to-coniston/
LOCATION:Coniston Cricket Club\, Yewdale Road\, Coniston\, Cumbria\, LA21 8ET
END:VEVENT
BEGIN:VEVENT
DTSTART;TZID=Europe/London:20260711T130000
DTEND;TZID=Europe/London:20260711T190000
DTSTAMP:20260422T133241
CREATED:20260403T153426Z
LAST-MODIFIED:20260403T153426Z
UID:7453-1783774800-1783796400@www.ulverstoncc.co.uk
SUMMARY:2nd XI Home to Kirkby Stephen
DESCRIPTION:2nd XI Home to Kirkby Stephen
URL:https://www.ulverstoncc.co.uk/event/2nd-xi-home-to-kirkby-stephen/
LOCATION:Ulverston Cricket Club\, Priory Road\, Ulverston\, LA12 9HT\, United Kingdom
END:VEVENT
END:VCALENDAR