BEGIN:VCALENDAR
VERSION:2.0
PRODID:-//Ulverston Cricket Club - ECPv6.15.17.1//NONSGML v1.0//EN
CALSCALE:GREGORIAN
METHOD:PUBLISH
X-ORIGINAL-URL:https://www.ulverstoncc.co.uk
X-WR-CALDESC:Events for Ulverston Cricket Club
REFRESH-INTERVAL;VALUE=DURATION:PT1H
X-Robots-Tag:noindex
X-PUBLISHED-TTL:PT1H
BEGIN:VTIMEZONE
TZID:Europe/London
BEGIN:DAYLIGHT
TZOFFSETFROM:+0000
TZOFFSETTO:+0100
TZNAME:BST
DTSTART:20240331T010000
END:DAYLIGHT
BEGIN:STANDARD
TZOFFSETFROM:+0100
TZOFFSETTO:+0000
TZNAME:GMT
DTSTART:20241027T010000
END:STANDARD
BEGIN:DAYLIGHT
TZOFFSETFROM:+0000
TZOFFSETTO:+0100
TZNAME:BST
DTSTART:20250330T010000
END:DAYLIGHT
BEGIN:STANDARD
TZOFFSETFROM:+0100
TZOFFSETTO:+0000
TZNAME:GMT
DTSTART:20251026T010000
END:STANDARD
BEGIN:DAYLIGHT
TZOFFSETFROM:+0000
TZOFFSETTO:+0100
TZNAME:BST
DTSTART:20260329T010000
END:DAYLIGHT
BEGIN:STANDARD
TZOFFSETFROM:+0100
TZOFFSETTO:+0000
TZNAME:GMT
DTSTART:20261025T010000
END:STANDARD
END:VTIMEZONE
BEGIN:VEVENT
DTSTART;TZID=Europe/London:20250622T163000
DTEND;TZID=Europe/London:20250622T163000
DTSTAMP:20260422T231558
CREATED:20250318T120425Z
LAST-MODIFIED:20250318T120425Z
UID:7155-1750609800-1750609800@www.ulverstoncc.co.uk
SUMMARY:U11 & U13 Practice
DESCRIPTION:U11 & U13 Practice
URL:https://www.ulverstoncc.co.uk/event/u11-u13-practice-12/
LOCATION:Ulverston Cricket Club\, Priory Road\, Ulverston\, LA12 9HT\, United Kingdom
END:VEVENT
BEGIN:VEVENT
DTSTART;TZID=Europe/London:20250621T130000
DTEND;TZID=Europe/London:20250621T190000
DTSTAMP:20260422T231558
CREATED:20250318T120111Z
LAST-MODIFIED:20250318T120111Z
UID:7087-1750510800-1750532400@www.ulverstoncc.co.uk
SUMMARY:2nd XI Away to Lindal Moor
DESCRIPTION:2nd XI Away to Lindal Moor
URL:https://www.ulverstoncc.co.uk/event/2nd-xi-away-to-lindal-moor/
LOCATION:Lindal Moor Cricket Club\, Pennington Lane\, Ulverston\, Cumbria\, LA12 0LA\, United Kingdom
END:VEVENT
BEGIN:VEVENT
DTSTART;TZID=Europe/London:20250621T130000
DTEND;TZID=Europe/London:20250621T190000
DTSTAMP:20260422T231558
CREATED:20250318T115951Z
LAST-MODIFIED:20250318T115951Z
UID:7053-1750510800-1750532400@www.ulverstoncc.co.uk
SUMMARY:1st XI Away to Arnside
DESCRIPTION:1st XI Away to Arnside
URL:https://www.ulverstoncc.co.uk/event/1st-xi-away-to-arnside/
END:VEVENT
BEGIN:VEVENT
DTSTART;TZID=Europe/London:20250620T180000
DTEND;TZID=Europe/London:20250620T203000
DTSTAMP:20260422T231558
CREATED:20250318T120640Z
LAST-MODIFIED:20250318T120640Z
UID:7200-1750442400-1750451400@www.ulverstoncc.co.uk
SUMMARY:U11 Ulverston Away to Dalton
DESCRIPTION:U11 Ulverston Away to Dalton
URL:https://www.ulverstoncc.co.uk/event/u11-ulverston-away-to-dalton/
LOCATION:Dalton Cricket Club\, Ulverston Road\, Dalton-In-Furness\, Cumbria\, LA15 8EY\, United Kingdom
END:VEVENT
BEGIN:VEVENT
DTSTART;TZID=Europe/London:20250620T180000
DTEND;TZID=Europe/London:20250620T203000
DTSTAMP:20260422T231558
CREATED:20250318T120640Z
LAST-MODIFIED:20250318T120640Z
UID:7198-1750442400-1750451400@www.ulverstoncc.co.uk
SUMMARY:U11 Rockets Home to Lindal
DESCRIPTION:U11 Rockets Home to Lindal
URL:https://www.ulverstoncc.co.uk/event/u11-rockets-home-to-lindal/
LOCATION:Ulverston Cricket Club\, Priory Road\, Ulverston\, LA12 9HT\, United Kingdom
END:VEVENT
BEGIN:VEVENT
DTSTART;TZID=Europe/London:20250620T163000
DTEND;TZID=Europe/London:20250620T173000
DTSTAMP:20260422T231558
CREATED:20250318T120825Z
LAST-MODIFIED:20250318T120825Z
UID:7233-1750437000-1750440600@www.ulverstoncc.co.uk
SUMMARY:All Stars & Dynamos
DESCRIPTION:All Stars & Dynamos
URL:https://www.ulverstoncc.co.uk/event/all-stars-dynamos-9/
LOCATION:Ulverston Cricket Club\, Priory Road\, Ulverston\, LA12 9HT\, United Kingdom
END:VEVENT
BEGIN:VEVENT
DTSTART;TZID=Europe/London:20250619T180000
DTEND;TZID=Europe/London:20250619T193000
DTSTAMP:20260422T231558
CREATED:20250318T120255Z
LAST-MODIFIED:20250318T120255Z
UID:7125-1750356000-1750361400@www.ulverstoncc.co.uk
SUMMARY:Comets Practice
DESCRIPTION:Comets Practice
URL:https://www.ulverstoncc.co.uk/event/comets-practice-9/
LOCATION:Ulverston Cricket Club\, Priory Road\, Ulverston\, LA12 9HT\, United Kingdom
END:VEVENT
BEGIN:VEVENT
DTSTART;TZID=Europe/London:20250619T173000
DTEND;TZID=Europe/London:20250619T203000
DTSTAMP:20260422T231558
CREATED:20250414T150621Z
LAST-MODIFIED:20250414T150621Z
UID:7286-1750354200-1750365000@www.ulverstoncc.co.uk
SUMMARY:U16 Boys Ulverston Home to Barrow
DESCRIPTION:
URL:https://www.ulverstoncc.co.uk/event/u16-boys-ulverston-home-to-barrow/
LOCATION:Ulverston Cricket Club\, Priory Road\, Ulverston\, LA12 9HT\, United Kingdom
END:VEVENT
BEGIN:VEVENT
DTSTART;TZID=Europe/London:20250619T163000
DTEND;TZID=Europe/London:20250619T180000
DTSTAMP:20260422T231558
CREATED:20250318T120540Z
LAST-MODIFIED:20250318T120540Z
UID:7180-1750350600-1750356000@www.ulverstoncc.co.uk
SUMMARY:U11 & U16 Rockets Practice
DESCRIPTION:U11 & U16 Rockets Practice
URL:https://www.ulverstoncc.co.uk/event/u11-u16-rockets-practice-11/
LOCATION:Ulverston Cricket Club\, Priory Road\, Ulverston\, LA12 9HT\, United Kingdom
END:VEVENT
BEGIN:VEVENT
DTSTART;TZID=Europe/London:20250616T180000
DTEND;TZID=Europe/London:20250616T203000
DTSTAMP:20260422T231558
CREATED:20250318T120710Z
LAST-MODIFIED:20250318T120710Z
UID:7208-1750096800-1750105800@www.ulverstoncc.co.uk
SUMMARY:U13 Ulverston Away to Dalton
DESCRIPTION:U13 Ulverston Away to Dalton
URL:https://www.ulverstoncc.co.uk/event/u13-ulverston-away-to-dalton/
LOCATION:Dalton Cricket Club\, Ulverston Road\, Dalton-In-Furness\, Cumbria\, LA15 8EY\, United Kingdom
END:VEVENT
BEGIN:VEVENT
DTSTART;TZID=Europe/London:20250615T163000
DTEND;TZID=Europe/London:20250615T163000
DTSTAMP:20260422T231558
CREATED:20250318T120425Z
LAST-MODIFIED:20250318T120425Z
UID:7154-1750005000-1750005000@www.ulverstoncc.co.uk
SUMMARY:U11 & U13 Practice
DESCRIPTION:U11 & U13 Practice
URL:https://www.ulverstoncc.co.uk/event/u11-u13-practice-11/
LOCATION:Ulverston Cricket Club\, Priory Road\, Ulverston\, LA12 9HT\, United Kingdom
END:VEVENT
BEGIN:VEVENT
DTSTART;TZID=Europe/London:20250615T130000
DTEND;TZID=Europe/London:20250615T190000
DTSTAMP:20260422T231558
CREATED:20250318T120210Z
LAST-MODIFIED:20250318T120210Z
UID:7107-1749992400-1750014000@www.ulverstoncc.co.uk
SUMMARY:3rd XI Home to Coniston
DESCRIPTION:3rd XI Home to Coniston
URL:https://www.ulverstoncc.co.uk/event/3rd-xi-home-to-coniston/
LOCATION:Ulverston Cricket Club\, Priory Road\, Ulverston\, LA12 9HT\, United Kingdom
END:VEVENT
BEGIN:VEVENT
DTSTART;TZID=Europe/London:20250615T110000
DTEND;TZID=Europe/London:20250615T160000
DTSTAMP:20260422T231558
CREATED:20250407T111734Z
LAST-MODIFIED:20250407T111819Z
UID:7256-1749985200-1750003200@www.ulverstoncc.co.uk
SUMMARY:U13 Girls away to Eden Eagles & Shireshead
DESCRIPTION:
URL:https://www.ulverstoncc.co.uk/event/u13-girls-away-to-eden-eagles-shireshead/
END:VEVENT
BEGIN:VEVENT
DTSTART;TZID=Europe/London:20250614T130000
DTEND;TZID=Europe/London:20250614T190000
DTSTAMP:20260422T231558
CREATED:20250318T120055Z
LAST-MODIFIED:20250318T120055Z
UID:7082-1749906000-1749927600@www.ulverstoncc.co.uk
SUMMARY:2nd XI Away to Bolton le Sands
DESCRIPTION:2nd XI Away to Bolton le Sands
URL:https://www.ulverstoncc.co.uk/event/2nd-xi-away-to-bolton-le-sands/
END:VEVENT
BEGIN:VEVENT
DTSTART;TZID=Europe/London:20250614T130000
DTEND;TZID=Europe/London:20250614T190000
DTSTAMP:20260422T231558
CREATED:20250318T120011Z
LAST-MODIFIED:20250318T120011Z
UID:7069-1749906000-1749927600@www.ulverstoncc.co.uk
SUMMARY:1st XI Home to Arnside
DESCRIPTION:1st XI Home to Arnside
URL:https://www.ulverstoncc.co.uk/event/1st-xi-home-to-arnside/
LOCATION:Ulverston Cricket Club\, Priory Road\, Ulverston\, LA12 9HT\, United Kingdom
END:VEVENT
BEGIN:VEVENT
DTSTART;TZID=Europe/London:20250613T180000
DTEND;TZID=Europe/London:20250613T203000
DTSTAMP:20260422T231558
CREATED:20250318T120655Z
LAST-MODIFIED:20250318T120655Z
UID:7203-1749837600-1749846600@www.ulverstoncc.co.uk
SUMMARY:U11 Ulverston Home to U11 Rockets
DESCRIPTION:U11 Ulverston Home to U11 Rockets
URL:https://www.ulverstoncc.co.uk/event/u11-ulverston-home-to-u11-rockets/
LOCATION:Ulverston Cricket Club\, Priory Road\, Ulverston\, LA12 9HT\, United Kingdom
END:VEVENT
BEGIN:VEVENT
DTSTART;TZID=Europe/London:20250613T163000
DTEND;TZID=Europe/London:20250613T173000
DTSTAMP:20260422T231558
CREATED:20250318T120824Z
LAST-MODIFIED:20250318T120824Z
UID:7232-1749832200-1749835800@www.ulverstoncc.co.uk
SUMMARY:All Stars & Dynamos
DESCRIPTION:All Stars & Dynamos
URL:https://www.ulverstoncc.co.uk/event/all-stars-dynamos-8/
LOCATION:Ulverston Cricket Club\, Priory Road\, Ulverston\, LA12 9HT\, United Kingdom
END:VEVENT
BEGIN:VEVENT
DTSTART;TZID=Europe/London:20250612T180000
DTEND;TZID=Europe/London:20250612T193000
DTSTAMP:20260422T231558
CREATED:20250318T120255Z
LAST-MODIFIED:20250318T120255Z
UID:7124-1749751200-1749756600@www.ulverstoncc.co.uk
SUMMARY:Comets Practice
DESCRIPTION:Comets Practice
URL:https://www.ulverstoncc.co.uk/event/comets-practice-8/
LOCATION:Ulverston Cricket Club\, Priory Road\, Ulverston\, LA12 9HT\, United Kingdom
END:VEVENT
BEGIN:VEVENT
DTSTART;TZID=Europe/London:20250612T163000
DTEND;TZID=Europe/London:20250612T180000
DTSTAMP:20260422T231558
CREATED:20250318T120540Z
LAST-MODIFIED:20250318T120540Z
UID:7179-1749745800-1749751200@www.ulverstoncc.co.uk
SUMMARY:U11 & U16 Rockets Practice
DESCRIPTION:U11 & U16 Rockets Practice
URL:https://www.ulverstoncc.co.uk/event/u11-u16-rockets-practice-10/
LOCATION:Ulverston Cricket Club\, Priory Road\, Ulverston\, LA12 9HT\, United Kingdom
END:VEVENT
BEGIN:VEVENT
DTSTART;TZID=Europe/London:20250609T180000
DTEND;TZID=Europe/London:20250609T203000
DTSTAMP:20260422T231558
CREATED:20250421T144103Z
LAST-MODIFIED:20250421T144103Z
UID:7306-1749492000-1749501000@www.ulverstoncc.co.uk
SUMMARY:U13 Ulverston Home to Lindal
DESCRIPTION:
URL:https://www.ulverstoncc.co.uk/event/u13-ulverston-home-to-lindal-2/
LOCATION:Ulverston Cricket Club\, Priory Road\, Ulverston\, LA12 9HT\, United Kingdom
END:VEVENT
BEGIN:VEVENT
DTSTART;TZID=Europe/London:20250608T163000
DTEND;TZID=Europe/London:20250608T163000
DTSTAMP:20260422T231558
CREATED:20250318T120425Z
LAST-MODIFIED:20250318T120425Z
UID:7153-1749400200-1749400200@www.ulverstoncc.co.uk
SUMMARY:U11 & U13 Practice
DESCRIPTION:U11 & U13 Practice
URL:https://www.ulverstoncc.co.uk/event/u11-u13-practice-10/
LOCATION:Ulverston Cricket Club\, Priory Road\, Ulverston\, LA12 9HT\, United Kingdom
END:VEVENT
BEGIN:VEVENT
DTSTART;TZID=Europe/London:20250608T130000
DTEND;TZID=Europe/London:20250608T190000
DTSTAMP:20260422T231558
CREATED:20250318T120156Z
LAST-MODIFIED:20250318T120156Z
UID:7104-1749387600-1749409200@www.ulverstoncc.co.uk
SUMMARY:3rd XI Away to Westgate
DESCRIPTION:3rd XI Away to Westgate
URL:https://www.ulverstoncc.co.uk/event/3rd-xi-away-to-westgate/
LOCATION:Westgate Cricket Club\, Cross Hill Park\, Powderhouse Lane\, Lancaster\, Lancashire\, LA1 2TX
END:VEVENT
BEGIN:VEVENT
DTSTART;TZID=Europe/London:20250608T110000
DTEND;TZID=Europe/London:20250608T160000
DTSTAMP:20260422T231558
CREATED:20250407T111636Z
LAST-MODIFIED:20250407T112017Z
UID:7254-1749380400-1749398400@www.ulverstoncc.co.uk
SUMMARY:U16 Girls League vs Carnforth & Sedbergh (home proposed)
DESCRIPTION:
URL:https://www.ulverstoncc.co.uk/event/u16-girls-league-vs-carnforth-sedbergh-home-proposed/
END:VEVENT
BEGIN:VEVENT
DTSTART;TZID=Europe/London:20250608T110000
DTEND;TZID=Europe/London:20250608T160000
DTSTAMP:20260422T231558
CREATED:20250318T120655Z
LAST-MODIFIED:20250529T184959Z
UID:7206-1749380400-1749398400@www.ulverstoncc.co.uk
SUMMARY:U15 Southern Power home to Eden Eagles
DESCRIPTION:U13 Southern Power Finals Day
URL:https://www.ulverstoncc.co.uk/event/u13-southern-power-finals-day/
LOCATION:To Be Confirmed
END:VEVENT
BEGIN:VEVENT
DTSTART;TZID=Europe/London:20250607T130000
DTEND;TZID=Europe/London:20250607T190000
DTSTAMP:20260422T231558
CREATED:20250318T120111Z
LAST-MODIFIED:20250318T120111Z
UID:7090-1749301200-1749322800@www.ulverstoncc.co.uk
SUMMARY:2nd XI Home to Arnside
DESCRIPTION:2nd XI Home to Arnside
URL:https://www.ulverstoncc.co.uk/event/2nd-xi-home-to-arnside/
LOCATION:Ulverston Cricket Club\, Priory Road\, Ulverston\, LA12 9HT\, United Kingdom
END:VEVENT
BEGIN:VEVENT
DTSTART;TZID=Europe/London:20250607T130000
DTEND;TZID=Europe/London:20250607T190000
DTSTAMP:20260422T231558
CREATED:20250318T115952Z
LAST-MODIFIED:20250318T115952Z
UID:7055-1749301200-1749322800@www.ulverstoncc.co.uk
SUMMARY:1st XI Away to Heysham
DESCRIPTION:1st XI Away to Heysham
URL:https://www.ulverstoncc.co.uk/event/1st-xi-away-to-heysham/
LOCATION:Heysham Cricket Club
END:VEVENT
BEGIN:VEVENT
DTSTART;TZID=Europe/London:20250606T180000
DTEND;TZID=Europe/London:20250606T203000
DTSTAMP:20260422T231558
CREATED:20250318T120640Z
LAST-MODIFIED:20250318T120640Z
UID:7199-1749232800-1749241800@www.ulverstoncc.co.uk
SUMMARY:U11 Rockets Home to Millom
DESCRIPTION:U11 Rockets Home to Millom
URL:https://www.ulverstoncc.co.uk/event/u11-rockets-home-to-millom/
LOCATION:Ulverston Cricket Club\, Priory Road\, Ulverston\, LA12 9HT\, United Kingdom
END:VEVENT
BEGIN:VEVENT
DTSTART;TZID=Europe/London:20250606T180000
DTEND;TZID=Europe/London:20250606T203000
DTSTAMP:20260422T231558
CREATED:20250318T120627Z
LAST-MODIFIED:20250318T120627Z
UID:7195-1749232800-1749241800@www.ulverstoncc.co.uk
SUMMARY:U11 Ulverston Away to Furness
DESCRIPTION:U11 Away to Furness
URL:https://www.ulverstoncc.co.uk/event/u11-ulverston-away-to-furness/
LOCATION:Furness Cricket Club\, 225 Oxford Street\, Barrow-in-Furness\, Cumbria\, LA14 5PR\, United Kingdom
END:VEVENT
BEGIN:VEVENT
DTSTART;TZID=Europe/London:20250606T163000
DTEND;TZID=Europe/London:20250606T173000
DTSTAMP:20260422T231558
CREATED:20250318T120811Z
LAST-MODIFIED:20250318T120811Z
UID:7231-1749227400-1749231000@www.ulverstoncc.co.uk
SUMMARY:All Stars & Dynamos
DESCRIPTION:All Stars & Dynamos
URL:https://www.ulverstoncc.co.uk/event/all-stars-dynamos-7/
LOCATION:Ulverston Cricket Club\, Priory Road\, Ulverston\, LA12 9HT\, United Kingdom
END:VEVENT
BEGIN:VEVENT
DTSTART;TZID=Europe/London:20250605T180000
DTEND;TZID=Europe/London:20250605T193000
DTSTAMP:20260422T231558
CREATED:20250318T120255Z
LAST-MODIFIED:20250318T120255Z
UID:7123-1749146400-1749151800@www.ulverstoncc.co.uk
SUMMARY:Comets Practice
DESCRIPTION:Comets Practice
URL:https://www.ulverstoncc.co.uk/event/comets-practice-7/
LOCATION:Ulverston Cricket Club\, Priory Road\, Ulverston\, LA12 9HT\, United Kingdom
END:VEVENT
END:VCALENDAR