BEGIN:VCALENDAR
VERSION:2.0
PRODID:-//Ulverston Cricket Club - ECPv6.15.17.1//NONSGML v1.0//EN
CALSCALE:GREGORIAN
METHOD:PUBLISH
X-WR-CALNAME:Ulverston Cricket Club
X-ORIGINAL-URL:https://www.ulverstoncc.co.uk
X-WR-CALDESC:Events for Ulverston Cricket Club
REFRESH-INTERVAL;VALUE=DURATION:PT1H
X-Robots-Tag:noindex
X-PUBLISHED-TTL:PT1H
BEGIN:VTIMEZONE
TZID:Europe/London
BEGIN:DAYLIGHT
TZOFFSETFROM:+0000
TZOFFSETTO:+0100
TZNAME:BST
DTSTART:20240331T010000
END:DAYLIGHT
BEGIN:STANDARD
TZOFFSETFROM:+0100
TZOFFSETTO:+0000
TZNAME:GMT
DTSTART:20241027T010000
END:STANDARD
BEGIN:DAYLIGHT
TZOFFSETFROM:+0000
TZOFFSETTO:+0100
TZNAME:BST
DTSTART:20250330T010000
END:DAYLIGHT
BEGIN:STANDARD
TZOFFSETFROM:+0100
TZOFFSETTO:+0000
TZNAME:GMT
DTSTART:20251026T010000
END:STANDARD
BEGIN:DAYLIGHT
TZOFFSETFROM:+0000
TZOFFSETTO:+0100
TZNAME:BST
DTSTART:20260329T010000
END:DAYLIGHT
BEGIN:STANDARD
TZOFFSETFROM:+0100
TZOFFSETTO:+0000
TZNAME:GMT
DTSTART:20261025T010000
END:STANDARD
END:VTIMEZONE
BEGIN:VEVENT
DTSTART;TZID=Europe/London:20250503T130000
DTEND;TZID=Europe/London:20250503T190000
DTSTAMP:20260423T124442
CREATED:20250318T120139Z
LAST-MODIFIED:20250318T120139Z
UID:7097-1746277200-1746298800@www.ulverstoncc.co.uk
SUMMARY:2nd XI Home to Lindal Moor
DESCRIPTION:2nd XI Home to Lindal Moor
URL:https://www.ulverstoncc.co.uk/event/2nd-xi-home-to-lindal-moor/
LOCATION:Ulverston Cricket Club\, Priory Road\, Ulverston\, LA12 9HT\, United Kingdom
END:VEVENT
BEGIN:VEVENT
DTSTART;TZID=Europe/London:20250503T130000
DTEND;TZID=Europe/London:20250503T190000
DTSTAMP:20260423T124442
CREATED:20250318T115955Z
LAST-MODIFIED:20250318T115956Z
UID:7059-1746277200-1746298800@www.ulverstoncc.co.uk
SUMMARY:1st XI Away to Netherfield
DESCRIPTION:1st XI Away to Netherfield
URL:https://www.ulverstoncc.co.uk/event/1st-xi-away-to-netherfield/
LOCATION:Netherfield Cricket Club\, Park Side Road\, Kendal\, Cumbria\, LA9 7BL
END:VEVENT
BEGIN:VEVENT
DTSTART;TZID=Europe/London:20250502T180000
DTEND;TZID=Europe/London:20250502T180000
DTSTAMP:20260423T124442
CREATED:20250318T120640Z
LAST-MODIFIED:20250318T120640Z
UID:7201-1746208800-1746208800@www.ulverstoncc.co.uk
SUMMARY:U11 Ulverston Away to Millom
DESCRIPTION:U11 Ulverston Away to Millom
URL:https://www.ulverstoncc.co.uk/event/u11-ulverston-away-to-millom/
LOCATION:Millom Cricket Club\, Millom\, Cumbria\, LA18 5DW\, United Kingdom
END:VEVENT
BEGIN:VEVENT
DTSTART;TZID=Europe/London:20250502T180000
DTEND;TZID=Europe/London:20250502T180000
DTSTAMP:20260423T124442
CREATED:20250318T120639Z
LAST-MODIFIED:20250318T120639Z
UID:7197-1746208800-1746208800@www.ulverstoncc.co.uk
SUMMARY:U11 Rockets Home to Barrow
DESCRIPTION:U11 Rockets Home to Barrow
URL:https://www.ulverstoncc.co.uk/event/u11-rockets-home-to-barrow/
LOCATION:Ulverston Cricket Club\, Priory Road\, Ulverston\, LA12 9HT\, United Kingdom
END:VEVENT
BEGIN:VEVENT
DTSTART;TZID=Europe/London:20250502T163000
DTEND;TZID=Europe/London:20250502T173000
DTSTAMP:20260423T124442
CREATED:20250318T120756Z
LAST-MODIFIED:20250318T120756Z
UID:7226-1746203400-1746207000@www.ulverstoncc.co.uk
SUMMARY:All Stars & Dynamos
DESCRIPTION:All Stars & Dynamos
URL:https://www.ulverstoncc.co.uk/event/all-stars-dynamos-2/
LOCATION:Ulverston Cricket Club\, Priory Road\, Ulverston\, LA12 9HT\, United Kingdom
END:VEVENT
BEGIN:VEVENT
DTSTART;TZID=Europe/London:20250501T180000
DTEND;TZID=Europe/London:20250501T193000
DTSTAMP:20260423T124442
CREATED:20250318T120240Z
LAST-MODIFIED:20250318T120240Z
UID:7118-1746122400-1746127800@www.ulverstoncc.co.uk
SUMMARY:Comets Practice
DESCRIPTION:Comets Practice
URL:https://www.ulverstoncc.co.uk/event/comets-practice-2/
LOCATION:Ulverston Cricket Club\, Priory Road\, Ulverston\, LA12 9HT\, United Kingdom
END:VEVENT
BEGIN:VEVENT
DTSTART;TZID=Europe/London:20250501T163000
DTEND;TZID=Europe/London:20250501T180000
DTSTAMP:20260423T124442
CREATED:20250318T120526Z
LAST-MODIFIED:20250318T120526Z
UID:7173-1746117000-1746122400@www.ulverstoncc.co.uk
SUMMARY:U11 & U16 Rockets Practice
DESCRIPTION:U11 & U16 Rockets Practice
URL:https://www.ulverstoncc.co.uk/event/u11-u16-rockets-practice-4/
LOCATION:Ulverston Cricket Club\, Priory Road\, Ulverston\, LA12 9HT\, United Kingdom
END:VEVENT
END:VCALENDAR