BEGIN:VCALENDAR
VERSION:2.0
PRODID:-//Ulverston Cricket Club - ECPv6.15.17.1//NONSGML v1.0//EN
CALSCALE:GREGORIAN
METHOD:PUBLISH
X-WR-CALNAME:Ulverston Cricket Club
X-ORIGINAL-URL:https://www.ulverstoncc.co.uk
X-WR-CALDESC:Events for Ulverston Cricket Club
REFRESH-INTERVAL;VALUE=DURATION:PT1H
X-Robots-Tag:noindex
X-PUBLISHED-TTL:PT1H
BEGIN:VTIMEZONE
TZID:Europe/London
BEGIN:DAYLIGHT
TZOFFSETFROM:+0000
TZOFFSETTO:+0100
TZNAME:BST
DTSTART:20240331T010000
END:DAYLIGHT
BEGIN:STANDARD
TZOFFSETFROM:+0100
TZOFFSETTO:+0000
TZNAME:GMT
DTSTART:20241027T010000
END:STANDARD
BEGIN:DAYLIGHT
TZOFFSETFROM:+0000
TZOFFSETTO:+0100
TZNAME:BST
DTSTART:20250330T010000
END:DAYLIGHT
BEGIN:STANDARD
TZOFFSETFROM:+0100
TZOFFSETTO:+0000
TZNAME:GMT
DTSTART:20251026T010000
END:STANDARD
BEGIN:DAYLIGHT
TZOFFSETFROM:+0000
TZOFFSETTO:+0100
TZNAME:BST
DTSTART:20260329T010000
END:DAYLIGHT
BEGIN:STANDARD
TZOFFSETFROM:+0100
TZOFFSETTO:+0000
TZNAME:GMT
DTSTART:20261025T010000
END:STANDARD
END:VTIMEZONE
BEGIN:VEVENT
DTSTART;TZID=Europe/London:20250821T180000
DTEND;TZID=Europe/London:20250821T193000
DTSTAMP:20260420T223930
CREATED:20250318T120325Z
LAST-MODIFIED:20250318T120325Z
UID:7134-1755799200-1755804600@www.ulverstoncc.co.uk
SUMMARY:Comets Practice
DESCRIPTION:Comets Practice
URL:https://www.ulverstoncc.co.uk/event/comets-practice-18/
LOCATION:Ulverston Cricket Club\, Priory Road\, Ulverston\, LA12 9HT\, United Kingdom
END:VEVENT
BEGIN:VEVENT
DTSTART;TZID=Europe/London:20250821T163000
DTEND;TZID=Europe/London:20250821T180000
DTSTAMP:20260420T223930
CREATED:20250318T120610Z
LAST-MODIFIED:20250318T120610Z
UID:7189-1755793800-1755799200@www.ulverstoncc.co.uk
SUMMARY:U11 & U16 Rockets Practice
DESCRIPTION:U11 & U16 Rockets Practice
URL:https://www.ulverstoncc.co.uk/event/u11-u16-rockets-practice-20/
LOCATION:Ulverston Cricket Club\, Priory Road\, Ulverston\, LA12 9HT\, United Kingdom
END:VEVENT
BEGIN:VEVENT
DTSTART;TZID=Europe/London:20250819T100000
DTEND;TZID=Europe/London:20250819T140000
DTSTAMP:20260420T223930
CREATED:20250720T161346Z
LAST-MODIFIED:20250720T161346Z
UID:7351-1755597600-1755612000@www.ulverstoncc.co.uk
SUMMARY:Cumbria Cricket Girls Camp
DESCRIPTION:
URL:https://www.ulverstoncc.co.uk/event/cumbria-cricket-girls-camp/
LOCATION:Ulverston Cricket Club\, Priory Road\, Ulverston\, LA12 9HT\, United Kingdom
END:VEVENT
BEGIN:VEVENT
DTSTART;TZID=Europe/London:20250818T100000
DTEND;TZID=Europe/London:20250818T140000
DTSTAMP:20260420T223930
CREATED:20250720T161307Z
LAST-MODIFIED:20250720T161307Z
UID:7349-1755511200-1755525600@www.ulverstoncc.co.uk
SUMMARY:Cumbria Cricket Camp
DESCRIPTION:
URL:https://www.ulverstoncc.co.uk/event/cumbria-cricket-camp/
LOCATION:Ulverston Cricket Club\, Priory Road\, Ulverston\, LA12 9HT\, United Kingdom
END:VEVENT
BEGIN:VEVENT
DTSTART;TZID=Europe/London:20250817T163000
DTEND;TZID=Europe/London:20250817T163000
DTSTAMP:20260420T223930
CREATED:20250318T120455Z
LAST-MODIFIED:20250318T120455Z
UID:7163-1755448200-1755448200@www.ulverstoncc.co.uk
SUMMARY:U11 & U13 Practice
DESCRIPTION:U11 & U13 Practice
URL:https://www.ulverstoncc.co.uk/event/u11-u13-practice-20/
LOCATION:Ulverston Cricket Club\, Priory Road\, Ulverston\, LA12 9HT\, United Kingdom
END:VEVENT
BEGIN:VEVENT
DTSTART;TZID=Europe/London:20250817T130000
DTEND;TZID=Europe/London:20250817T190000
DTSTAMP:20260420T223930
CREATED:20250318T120156Z
LAST-MODIFIED:20250318T120156Z
UID:7106-1755435600-1755457200@www.ulverstoncc.co.uk
SUMMARY:3rd XI Home to Bare
DESCRIPTION:3rd XI Home to Bare
URL:https://www.ulverstoncc.co.uk/event/3rd-xi-home-to-bare/
LOCATION:Ulverston Cricket Club\, Priory Road\, Ulverston\, LA12 9HT\, United Kingdom
END:VEVENT
BEGIN:VEVENT
DTSTART;TZID=Europe/London:20250816T130000
DTEND;TZID=Europe/London:20250816T190000
DTSTAMP:20260420T223930
CREATED:20250318T120041Z
LAST-MODIFIED:20250318T120041Z
UID:7079-1755349200-1755370800@www.ulverstoncc.co.uk
SUMMARY:2nd XI Away to Appleby
DESCRIPTION:2nd XI Away to Appleby
URL:https://www.ulverstoncc.co.uk/event/2nd-xi-away-to-appleby/
LOCATION:Appleby Cricket Club
END:VEVENT
BEGIN:VEVENT
DTSTART;TZID=Europe/London:20250816T130000
DTEND;TZID=Europe/London:20250816T190000
DTSTAMP:20260420T223930
CREATED:20250318T120041Z
LAST-MODIFIED:20250318T120041Z
UID:7077-1755349200-1755370800@www.ulverstoncc.co.uk
SUMMARY:1st XI Home to Shireshead
DESCRIPTION:1st XI Home to Shireshead
URL:https://www.ulverstoncc.co.uk/event/1st-xi-home-to-shireshead/
LOCATION:Ulverston Cricket Club\, Priory Road\, Ulverston\, LA12 9HT\, United Kingdom
END:VEVENT
BEGIN:VEVENT
DTSTART;TZID=Europe/London:20250815T163000
DTEND;TZID=Europe/London:20250815T173000
DTSTAMP:20260420T223930
CREATED:20250318T120840Z
LAST-MODIFIED:20250318T120840Z
UID:7241-1755275400-1755279000@www.ulverstoncc.co.uk
SUMMARY:All Stars & Dynamos
DESCRIPTION:All Stars & Dynamos
URL:https://www.ulverstoncc.co.uk/event/all-stars-dynamos-17/
LOCATION:Ulverston Cricket Club\, Priory Road\, Ulverston\, LA12 9HT\, United Kingdom
END:VEVENT
BEGIN:VEVENT
DTSTART;TZID=Europe/London:20250814T180000
DTEND;TZID=Europe/London:20250814T193000
DTSTAMP:20260420T223930
CREATED:20250318T120325Z
LAST-MODIFIED:20250318T120325Z
UID:7133-1755194400-1755199800@www.ulverstoncc.co.uk
SUMMARY:Comets Practice
DESCRIPTION:Comets Practice
URL:https://www.ulverstoncc.co.uk/event/comets-practice-17/
LOCATION:Ulverston Cricket Club\, Priory Road\, Ulverston\, LA12 9HT\, United Kingdom
END:VEVENT
BEGIN:VEVENT
DTSTART;TZID=Europe/London:20250814T163000
DTEND;TZID=Europe/London:20250814T180000
DTSTAMP:20260420T223930
CREATED:20250318T120610Z
LAST-MODIFIED:20250318T120610Z
UID:7188-1755189000-1755194400@www.ulverstoncc.co.uk
SUMMARY:U11 & U16 Rockets Practice
DESCRIPTION:U11 & U16 Rockets Practice
URL:https://www.ulverstoncc.co.uk/event/u11-u16-rockets-practice-19/
LOCATION:Ulverston Cricket Club\, Priory Road\, Ulverston\, LA12 9HT\, United Kingdom
END:VEVENT
BEGIN:VEVENT
DTSTART;TZID=Europe/London:20250814T100000
DTEND;TZID=Europe/London:20250814T160000
DTSTAMP:20260420T223930
CREATED:20250720T161226Z
LAST-MODIFIED:20250720T161226Z
UID:7347-1755165600-1755187200@www.ulverstoncc.co.uk
SUMMARY:JW Fielding Camp
DESCRIPTION:
URL:https://www.ulverstoncc.co.uk/event/jw-fielding-camp/
LOCATION:Ulverston Cricket Club\, Priory Road\, Ulverston\, LA12 9HT\, United Kingdom
END:VEVENT
BEGIN:VEVENT
DTSTART;TZID=Europe/London:20250810T163000
DTEND;TZID=Europe/London:20250810T163000
DTSTAMP:20260420T223930
CREATED:20250318T120454Z
LAST-MODIFIED:20250318T120454Z
UID:7162-1754843400-1754843400@www.ulverstoncc.co.uk
SUMMARY:U11 & U13 Practice
DESCRIPTION:U11 & U13 Practice
URL:https://www.ulverstoncc.co.uk/event/u11-u13-practice-19/
LOCATION:Ulverston Cricket Club\, Priory Road\, Ulverston\, LA12 9HT\, United Kingdom
END:VEVENT
BEGIN:VEVENT
DTSTART;TZID=Europe/London:20250810T130000
DTEND;TZID=Europe/London:20250810T190000
DTSTAMP:20260420T223930
CREATED:20250318T120126Z
LAST-MODIFIED:20250318T120126Z
UID:7093-1754830800-1754852400@www.ulverstoncc.co.uk
SUMMARY:2nd XI Home to Dalton
DESCRIPTION:2nd XI Home to Dalton
URL:https://www.ulverstoncc.co.uk/event/2nd-xi-home-to-dalton/
LOCATION:Ulverston Cricket Club\, Priory Road\, Ulverston\, LA12 9HT\, United Kingdom
END:VEVENT
BEGIN:VEVENT
DTSTART;TZID=Europe/London:20250809T130000
DTEND;TZID=Europe/London:20250809T190000
DTSTAMP:20260420T223930
CREATED:20250318T120026Z
LAST-MODIFIED:20250318T120026Z
UID:7075-1754744400-1754766000@www.ulverstoncc.co.uk
SUMMARY:1st XI Home to Netherfield
DESCRIPTION:1st XI Home to Netherfield
URL:https://www.ulverstoncc.co.uk/event/1st-xi-home-to-netherfield/
LOCATION:Ulverston Cricket Club\, Priory Road\, Ulverston\, LA12 9HT\, United Kingdom
END:VEVENT
BEGIN:VEVENT
DTSTART;TZID=Europe/London:20250808T163000
DTEND;TZID=Europe/London:20250808T173000
DTSTAMP:20260420T223930
CREATED:20250318T120840Z
LAST-MODIFIED:20250318T120840Z
UID:7240-1754670600-1754674200@www.ulverstoncc.co.uk
SUMMARY:All Stars & Dynamos
DESCRIPTION:All Stars & Dynamos
URL:https://www.ulverstoncc.co.uk/event/all-stars-dynamos-16/
LOCATION:Ulverston Cricket Club\, Priory Road\, Ulverston\, LA12 9HT\, United Kingdom
END:VEVENT
BEGIN:VEVENT
DTSTART;TZID=Europe/London:20250807T180000
DTEND;TZID=Europe/London:20250807T193000
DTSTAMP:20260420T223930
CREATED:20250318T120324Z
LAST-MODIFIED:20250318T120324Z
UID:7132-1754589600-1754595000@www.ulverstoncc.co.uk
SUMMARY:Comets Practice
DESCRIPTION:Comets Practice
URL:https://www.ulverstoncc.co.uk/event/comets-practice-16/
LOCATION:Ulverston Cricket Club\, Priory Road\, Ulverston\, LA12 9HT\, United Kingdom
END:VEVENT
BEGIN:VEVENT
DTSTART;TZID=Europe/London:20250807T163000
DTEND;TZID=Europe/London:20250807T180000
DTSTAMP:20260420T223930
CREATED:20250318T120610Z
LAST-MODIFIED:20250318T120610Z
UID:7187-1754584200-1754589600@www.ulverstoncc.co.uk
SUMMARY:U11 & U16 Rockets Practice
DESCRIPTION:U11 & U16 Rockets Practice
URL:https://www.ulverstoncc.co.uk/event/u11-u16-rockets-practice-18/
LOCATION:Ulverston Cricket Club\, Priory Road\, Ulverston\, LA12 9HT\, United Kingdom
END:VEVENT
BEGIN:VEVENT
DTSTART;TZID=Europe/London:20250803T163000
DTEND;TZID=Europe/London:20250803T163000
DTSTAMP:20260420T223930
CREATED:20250318T120440Z
LAST-MODIFIED:20250318T120440Z
UID:7161-1754238600-1754238600@www.ulverstoncc.co.uk
SUMMARY:U11 & U13 Practice
DESCRIPTION:U11 & U13 Practice
URL:https://www.ulverstoncc.co.uk/event/u11-u13-practice-18/
LOCATION:Ulverston Cricket Club\, Priory Road\, Ulverston\, LA12 9HT\, United Kingdom
END:VEVENT
BEGIN:VEVENT
DTSTART;TZID=Europe/London:20250802T130000
DTEND;TZID=Europe/London:20250802T190000
DTSTAMP:20260420T223930
CREATED:20250318T120055Z
LAST-MODIFIED:20250318T120055Z
UID:7083-1754139600-1754161200@www.ulverstoncc.co.uk
SUMMARY:2nd XI Away to Dalton
DESCRIPTION:2nd XI Away to Dalton
URL:https://www.ulverstoncc.co.uk/event/2nd-xi-away-to-dalton/
LOCATION:Dalton Cricket Club\, Ulverston Road\, Dalton-In-Furness\, Cumbria\, LA15 8EY\, United Kingdom
END:VEVENT
BEGIN:VEVENT
DTSTART;TZID=Europe/London:20250802T130000
DTEND;TZID=Europe/London:20250802T190000
DTSTAMP:20260420T223930
CREATED:20250318T120041Z
LAST-MODIFIED:20250318T120041Z
UID:7078-1754139600-1754161200@www.ulverstoncc.co.uk
SUMMARY:1st XI Home to Westgate
DESCRIPTION:1st XI Home to Westgate
URL:https://www.ulverstoncc.co.uk/event/1st-xi-home-to-westgate/
LOCATION:Ulverston Cricket Club\, Priory Road\, Ulverston\, LA12 9HT\, United Kingdom
END:VEVENT
BEGIN:VEVENT
DTSTART;TZID=Europe/London:20250801T163000
DTEND;TZID=Europe/London:20250801T173000
DTSTAMP:20260420T223930
CREATED:20250318T120840Z
LAST-MODIFIED:20250318T120840Z
UID:7239-1754065800-1754069400@www.ulverstoncc.co.uk
SUMMARY:All Stars & Dynamos
DESCRIPTION:All Stars & Dynamos
URL:https://www.ulverstoncc.co.uk/event/all-stars-dynamos-15/
LOCATION:Ulverston Cricket Club\, Priory Road\, Ulverston\, LA12 9HT\, United Kingdom
END:VEVENT
BEGIN:VEVENT
DTSTART;TZID=Europe/London:20250731T180000
DTEND;TZID=Europe/London:20250731T193000
DTSTAMP:20260420T223930
CREATED:20250318T120311Z
LAST-MODIFIED:20250318T120311Z
UID:7131-1753984800-1753990200@www.ulverstoncc.co.uk
SUMMARY:Comets Practice
DESCRIPTION:Comets Practice
URL:https://www.ulverstoncc.co.uk/event/comets-practice-15/
LOCATION:Ulverston Cricket Club\, Priory Road\, Ulverston\, LA12 9HT\, United Kingdom
END:VEVENT
BEGIN:VEVENT
DTSTART;TZID=Europe/London:20250731T163000
DTEND;TZID=Europe/London:20250731T180000
DTSTAMP:20260420T223930
CREATED:20250318T120555Z
LAST-MODIFIED:20250318T120555Z
UID:7186-1753979400-1753984800@www.ulverstoncc.co.uk
SUMMARY:U11 & U16 Rockets Practice
DESCRIPTION:U11 & U16 Rockets Practice
URL:https://www.ulverstoncc.co.uk/event/u11-u16-rockets-practice-17/
LOCATION:Ulverston Cricket Club\, Priory Road\, Ulverston\, LA12 9HT\, United Kingdom
END:VEVENT
BEGIN:VEVENT
DTSTART;TZID=Europe/London:20250729T100000
DTEND;TZID=Europe/London:20250729T140000
DTSTAMP:20260420T223930
CREATED:20250720T161054Z
LAST-MODIFIED:20250720T161118Z
UID:7345-1753783200-1753797600@www.ulverstoncc.co.uk
SUMMARY:Cumbria Cricket Hardball Camp
DESCRIPTION:
URL:https://www.ulverstoncc.co.uk/event/cumbria-cricket-hardball-camp/
LOCATION:Ulverston Cricket Club\, Priory Road\, Ulverston\, LA12 9HT\, United Kingdom
END:VEVENT
BEGIN:VEVENT
DTSTART;TZID=Europe/London:20250728T100000
DTEND;TZID=Europe/London:20250728T140000
DTSTAMP:20260420T223930
CREATED:20250720T161010Z
LAST-MODIFIED:20250720T161010Z
UID:7343-1753696800-1753711200@www.ulverstoncc.co.uk
SUMMARY:Cumbria Cricket Softball Camp
DESCRIPTION:
URL:https://www.ulverstoncc.co.uk/event/cumbria-cricket-softball-camp/
LOCATION:Ulverston Cricket Club\, Priory Road\, Ulverston\, LA12 9HT\, United Kingdom
END:VEVENT
BEGIN:VEVENT
DTSTART;TZID=Europe/London:20250727T163000
DTEND;TZID=Europe/London:20250727T163000
DTSTAMP:20260420T223930
CREATED:20250318T120440Z
LAST-MODIFIED:20250318T120440Z
UID:7160-1753633800-1753633800@www.ulverstoncc.co.uk
SUMMARY:U11 & U13 Practice
DESCRIPTION:U11 & U13 Practice
URL:https://www.ulverstoncc.co.uk/event/u11-u13-practice-17/
LOCATION:Ulverston Cricket Club\, Priory Road\, Ulverston\, LA12 9HT\, United Kingdom
END:VEVENT
BEGIN:VEVENT
DTSTART;TZID=Europe/London:20250727T130000
DTEND;TZID=Europe/London:20250727T190000
DTSTAMP:20260420T223930
CREATED:20250318T120210Z
LAST-MODIFIED:20250318T120210Z
UID:7110-1753621200-1753642800@www.ulverstoncc.co.uk
SUMMARY:3rd XI Home to Netherfield
DESCRIPTION:3rd XI Home to Netherfield
URL:https://www.ulverstoncc.co.uk/event/3rd-xi-home-to-netherfield/
LOCATION:Ulverston Cricket Club\, Priory Road\, Ulverston\, LA12 9HT\, United Kingdom
END:VEVENT
BEGIN:VEVENT
DTSTART;TZID=Europe/London:20250726T130000
DTEND;TZID=Europe/London:20250726T190000
DTSTAMP:20260420T223930
CREATED:20250318T120125Z
LAST-MODIFIED:20250318T120125Z
UID:7092-1753534800-1753556400@www.ulverstoncc.co.uk
SUMMARY:2nd XI Home to Bolton le Sands
DESCRIPTION:2nd XI Home to Bolton le Sands
URL:https://www.ulverstoncc.co.uk/event/2nd-xi-home-to-bolton-le-sands/
LOCATION:Ulverston Cricket Club\, Priory Road\, Ulverston\, LA12 9HT\, United Kingdom
END:VEVENT
BEGIN:VEVENT
DTSTART;TZID=Europe/London:20250726T130000
DTEND;TZID=Europe/London:20250726T190000
DTSTAMP:20260420T223930
CREATED:20250318T120010Z
LAST-MODIFIED:20250318T120010Z
UID:7067-1753534800-1753556400@www.ulverstoncc.co.uk
SUMMARY:1st XI Away to Westgate
DESCRIPTION:1st XI Away to Westgate
URL:https://www.ulverstoncc.co.uk/event/1st-xi-away-to-westgate/
LOCATION:Westgate Cricket Club\, Cross Hill Park\, Powderhouse Lane\, Lancaster\, Lancashire\, LA1 2TX
END:VEVENT
END:VCALENDAR