BEGIN:VCALENDAR
VERSION:2.0
PRODID:-//Ulverston Cricket Club - ECPv6.15.17.1//NONSGML v1.0//EN
CALSCALE:GREGORIAN
METHOD:PUBLISH
X-WR-CALNAME:Ulverston Cricket Club
X-ORIGINAL-URL:https://www.ulverstoncc.co.uk
X-WR-CALDESC:Events for Ulverston Cricket Club
REFRESH-INTERVAL;VALUE=DURATION:PT1H
X-Robots-Tag:noindex
X-PUBLISHED-TTL:PT1H
BEGIN:VTIMEZONE
TZID:Europe/London
BEGIN:DAYLIGHT
TZOFFSETFROM:+0000
TZOFFSETTO:+0100
TZNAME:BST
DTSTART:20240331T010000
END:DAYLIGHT
BEGIN:STANDARD
TZOFFSETFROM:+0100
TZOFFSETTO:+0000
TZNAME:GMT
DTSTART:20241027T010000
END:STANDARD
BEGIN:DAYLIGHT
TZOFFSETFROM:+0000
TZOFFSETTO:+0100
TZNAME:BST
DTSTART:20250330T010000
END:DAYLIGHT
BEGIN:STANDARD
TZOFFSETFROM:+0100
TZOFFSETTO:+0000
TZNAME:GMT
DTSTART:20251026T010000
END:STANDARD
BEGIN:DAYLIGHT
TZOFFSETFROM:+0000
TZOFFSETTO:+0100
TZNAME:BST
DTSTART:20260329T010000
END:DAYLIGHT
BEGIN:STANDARD
TZOFFSETFROM:+0100
TZOFFSETTO:+0000
TZNAME:GMT
DTSTART:20261025T010000
END:STANDARD
END:VTIMEZONE
BEGIN:VEVENT
DTSTART;TZID=Europe/London:20250713T163000
DTEND;TZID=Europe/London:20250713T163000
DTSTAMP:20260422T234900
CREATED:20250318T120440Z
LAST-MODIFIED:20250318T120440Z
UID:7158-1752424200-1752424200@www.ulverstoncc.co.uk
SUMMARY:U11 & U13 Practice
DESCRIPTION:U11 & U13 Practice
URL:https://www.ulverstoncc.co.uk/event/u11-u13-practice-15/
LOCATION:Ulverston Cricket Club\, Priory Road\, Ulverston\, LA12 9HT\, United Kingdom
END:VEVENT
BEGIN:VEVENT
DTSTART;TZID=Europe/London:20250713T130000
DTEND;TZID=Europe/London:20250713T190000
DTSTAMP:20260422T234900
CREATED:20250318T120140Z
LAST-MODIFIED:20250318T120140Z
UID:7101-1752411600-1752433200@www.ulverstoncc.co.uk
SUMMARY:3rd XI Away to Ingleton
DESCRIPTION:3rd XI Away to Ingleton
URL:https://www.ulverstoncc.co.uk/event/3rd-xi-away-to-ingleton/
LOCATION:Ingleton Cricket Club\, Main Street\, Ingleton\, Yorkshire\, LA6 3EH
END:VEVENT
BEGIN:VEVENT
DTSTART;TZID=Europe/London:20250712T130000
DTEND;TZID=Europe/London:20250712T190000
DTSTAMP:20260422T234900
CREATED:20250318T120126Z
LAST-MODIFIED:20250318T120126Z
UID:7096-1752325200-1752346800@www.ulverstoncc.co.uk
SUMMARY:2nd XI Home to Holme
DESCRIPTION:2nd XI Home to Holme
URL:https://www.ulverstoncc.co.uk/event/2nd-xi-home-to-holme/
LOCATION:Ulverston Cricket Club\, Priory Road\, Ulverston\, LA12 9HT\, United Kingdom
END:VEVENT
BEGIN:VEVENT
DTSTART;TZID=Europe/London:20250712T130000
DTEND;TZID=Europe/London:20250712T190000
DTSTAMP:20260422T234900
CREATED:20250318T115952Z
LAST-MODIFIED:20250318T115952Z
UID:7056-1752325200-1752346800@www.ulverstoncc.co.uk
SUMMARY:1st XI Away to Ingleton
DESCRIPTION:1st XI Away to Ingleton
URL:https://www.ulverstoncc.co.uk/event/1st-xi-away-to-ingleton/
LOCATION:Ingleton Cricket Club\, Main Street\, Ingleton\, Yorkshire\, LA6 3EH
END:VEVENT
BEGIN:VEVENT
DTSTART;TZID=Europe/London:20250711T163000
DTEND;TZID=Europe/London:20250711T173000
DTSTAMP:20260422T234900
CREATED:20250318T120825Z
LAST-MODIFIED:20250318T120825Z
UID:7236-1752251400-1752255000@www.ulverstoncc.co.uk
SUMMARY:All Stars & Dynamos
DESCRIPTION:All Stars & Dynamos
URL:https://www.ulverstoncc.co.uk/event/all-stars-dynamos-12/
LOCATION:Ulverston Cricket Club\, Priory Road\, Ulverston\, LA12 9HT\, United Kingdom
END:VEVENT
BEGIN:VEVENT
DTSTART;TZID=Europe/London:20250710T180000
DTEND;TZID=Europe/London:20250710T193000
DTSTAMP:20260422T234900
CREATED:20250318T120310Z
LAST-MODIFIED:20250318T120310Z
UID:7128-1752170400-1752175800@www.ulverstoncc.co.uk
SUMMARY:Comets Practice
DESCRIPTION:Comets Practice
URL:https://www.ulverstoncc.co.uk/event/comets-practice-12/
LOCATION:Ulverston Cricket Club\, Priory Road\, Ulverston\, LA12 9HT\, United Kingdom
END:VEVENT
BEGIN:VEVENT
DTSTART;TZID=Europe/London:20250710T163000
DTEND;TZID=Europe/London:20250710T180000
DTSTAMP:20260422T234900
CREATED:20250318T120555Z
LAST-MODIFIED:20250318T120555Z
UID:7183-1752165000-1752170400@www.ulverstoncc.co.uk
SUMMARY:U11 & U16 Rockets Practice
DESCRIPTION:U11 & U16 Rockets Practice
URL:https://www.ulverstoncc.co.uk/event/u11-u16-rockets-practice-14/
LOCATION:Ulverston Cricket Club\, Priory Road\, Ulverston\, LA12 9HT\, United Kingdom
END:VEVENT
BEGIN:VEVENT
DTSTART;TZID=Europe/London:20250707T180000
DTEND;TZID=Europe/London:20250707T203000
DTSTAMP:20260422T234900
CREATED:20250318T120755Z
LAST-MODIFIED:20250318T120755Z
UID:7223-1751911200-1751920200@www.ulverstoncc.co.uk
SUMMARY:U16s Cup TBC
DESCRIPTION:U16s Cup TBC
URL:https://www.ulverstoncc.co.uk/event/u16s-cup-tbc/
LOCATION:To Be Confirmed
END:VEVENT
BEGIN:VEVENT
DTSTART;TZID=Europe/London:20250706T163000
DTEND;TZID=Europe/London:20250706T163000
DTSTAMP:20260422T234900
CREATED:20250318T120439Z
LAST-MODIFIED:20250318T120439Z
UID:7157-1751819400-1751819400@www.ulverstoncc.co.uk
SUMMARY:U11 & U13 Practice
DESCRIPTION:U11 & U13 Practice
URL:https://www.ulverstoncc.co.uk/event/u11-u13-practice-14/
LOCATION:Ulverston Cricket Club\, Priory Road\, Ulverston\, LA12 9HT\, United Kingdom
END:VEVENT
BEGIN:VEVENT
DTSTART;TZID=Europe/London:20250706T130000
DTEND;TZID=Europe/London:20250706T190000
DTSTAMP:20260422T234900
CREATED:20250318T120210Z
LAST-MODIFIED:20250318T120210Z
UID:7109-1751806800-1751828400@www.ulverstoncc.co.uk
SUMMARY:3rd XI Home to Millom
DESCRIPTION:3rd XI Home to Millom
URL:https://www.ulverstoncc.co.uk/event/3rd-xi-home-to-millom/
LOCATION:Ulverston Cricket Club\, Priory Road\, Ulverston\, LA12 9HT\, United Kingdom
END:VEVENT
BEGIN:VEVENT
DTSTART;TZID=Europe/London:20250706T110000
DTEND;TZID=Europe/London:20250706T160000
DTSTAMP:20260422T234900
CREATED:20250407T112439Z
LAST-MODIFIED:20250407T112439Z
UID:7261-1751799600-1751817600@www.ulverstoncc.co.uk
SUMMARY:U16 Girls away to Eden Eagles & Carnforth
DESCRIPTION:
URL:https://www.ulverstoncc.co.uk/event/u16-girls-away-to-eden-eagles-carnforth/
END:VEVENT
BEGIN:VEVENT
DTSTART;TZID=Europe/London:20250705T130000
DTEND;TZID=Europe/London:20250705T190000
DTSTAMP:20260422T234900
CREATED:20250318T120056Z
LAST-MODIFIED:20250318T120056Z
UID:7086-1751720400-1751742000@www.ulverstoncc.co.uk
SUMMARY:2nd XI Away to Holme
DESCRIPTION:2nd XI Away to Holme
URL:https://www.ulverstoncc.co.uk/event/2nd-xi-away-to-holme/
LOCATION:Holme Cricket Club
END:VEVENT
BEGIN:VEVENT
DTSTART;TZID=Europe/London:20250705T130000
DTEND;TZID=Europe/London:20250705T190000
DTSTAMP:20260422T234900
CREATED:20250318T120011Z
LAST-MODIFIED:20250318T120011Z
UID:7068-1751720400-1751742000@www.ulverstoncc.co.uk
SUMMARY:1st XI Home to Ambleside
DESCRIPTION:1st XI Home to Ambleside
URL:https://www.ulverstoncc.co.uk/event/1st-xi-home-to-ambleside/
LOCATION:Ulverston Cricket Club\, Priory Road\, Ulverston\, LA12 9HT\, United Kingdom
END:VEVENT
BEGIN:VEVENT
DTSTART;TZID=Europe/London:20250704T163000
DTEND;TZID=Europe/London:20250704T173000
DTSTAMP:20260422T234900
CREATED:20250318T120825Z
LAST-MODIFIED:20250318T120825Z
UID:7235-1751646600-1751650200@www.ulverstoncc.co.uk
SUMMARY:All Stars & Dynamos
DESCRIPTION:All Stars & Dynamos
URL:https://www.ulverstoncc.co.uk/event/all-stars-dynamos-11/
LOCATION:Ulverston Cricket Club\, Priory Road\, Ulverston\, LA12 9HT\, United Kingdom
END:VEVENT
BEGIN:VEVENT
DTSTART;TZID=Europe/London:20250703T180000
DTEND;TZID=Europe/London:20250703T193000
DTSTAMP:20260422T234900
CREATED:20250318T120310Z
LAST-MODIFIED:20250318T120310Z
UID:7127-1751565600-1751571000@www.ulverstoncc.co.uk
SUMMARY:Comets Practice
DESCRIPTION:Comets Practice
URL:https://www.ulverstoncc.co.uk/event/comets-practice-11/
LOCATION:Ulverston Cricket Club\, Priory Road\, Ulverston\, LA12 9HT\, United Kingdom
END:VEVENT
BEGIN:VEVENT
DTSTART;TZID=Europe/London:20250703T163000
DTEND;TZID=Europe/London:20250703T180000
DTSTAMP:20260422T234900
CREATED:20250318T120554Z
LAST-MODIFIED:20250318T120554Z
UID:7182-1751560200-1751565600@www.ulverstoncc.co.uk
SUMMARY:U11 & U16 Rockets Practice
DESCRIPTION:U11 & U16 Rockets Practice
URL:https://www.ulverstoncc.co.uk/event/u11-u16-rockets-practice-13/
LOCATION:Ulverston Cricket Club\, Priory Road\, Ulverston\, LA12 9HT\, United Kingdom
END:VEVENT
BEGIN:VEVENT
DTSTART;TZID=Europe/London:20250630T180000
DTEND;TZID=Europe/London:20250630T203000
DTSTAMP:20260422T234900
CREATED:20250318T120755Z
LAST-MODIFIED:20250318T120755Z
UID:7222-1751306400-1751315400@www.ulverstoncc.co.uk
SUMMARY:U16s Back up Day
DESCRIPTION:U16s Back up Day
URL:https://www.ulverstoncc.co.uk/event/u16s-back-up-day/
LOCATION:To Be Confirmed
END:VEVENT
BEGIN:VEVENT
DTSTART;TZID=Europe/London:20250630T180000
DTEND;TZID=Europe/London:20250630T203000
DTSTAMP:20260422T234900
CREATED:20250318T120725Z
LAST-MODIFIED:20250318T120725Z
UID:7214-1751306400-1751315400@www.ulverstoncc.co.uk
SUMMARY:U13 Ulverston Home to Furness
DESCRIPTION:U13 Ulverston Home to Furness
URL:https://www.ulverstoncc.co.uk/event/u13-ulverston-home-to-furness/
LOCATION:Ulverston Cricket Club\, Priory Road\, Ulverston\, LA12 9HT\, United Kingdom
END:VEVENT
BEGIN:VEVENT
DTSTART;TZID=Europe/London:20250629T163000
DTEND;TZID=Europe/London:20250629T163000
DTSTAMP:20260422T234900
CREATED:20250318T120425Z
LAST-MODIFIED:20250318T120425Z
UID:7156-1751214600-1751214600@www.ulverstoncc.co.uk
SUMMARY:U11 & U13 Practice
DESCRIPTION:U11 & U13 Practice
URL:https://www.ulverstoncc.co.uk/event/u11-u13-practice-13/
LOCATION:Ulverston Cricket Club\, Priory Road\, Ulverston\, LA12 9HT\, United Kingdom
END:VEVENT
BEGIN:VEVENT
DTSTART;TZID=Europe/London:20250629T130000
DTEND;TZID=Europe/London:20250629T190000
DTSTAMP:20260422T234900
CREATED:20250318T120210Z
LAST-MODIFIED:20250318T120210Z
UID:7108-1751202000-1751223600@www.ulverstoncc.co.uk
SUMMARY:3rd XI Home to Kirkby Lonsdale
DESCRIPTION:3rd XI Home to Kirkby Lonsdale
URL:https://www.ulverstoncc.co.uk/event/3rd-xi-home-to-kirkby-lonsdale/
LOCATION:Ulverston Cricket Club\, Priory Road\, Ulverston\, LA12 9HT\, United Kingdom
END:VEVENT
BEGIN:VEVENT
DTSTART;TZID=Europe/London:20250629T110000
DTEND;TZID=Europe/London:20250629T160000
DTSTAMP:20260422T234900
CREATED:20250407T112357Z
LAST-MODIFIED:20250407T112357Z
UID:7259-1751194800-1751212800@www.ulverstoncc.co.uk
SUMMARY:U13 Girls away to Eden Eagles & Carnforth
DESCRIPTION:
URL:https://www.ulverstoncc.co.uk/event/u13-girls-away-to-eden-eagles-carnforth/
LOCATION:To Be Confirmed
END:VEVENT
BEGIN:VEVENT
DTSTART;TZID=Europe/London:20250628T130000
DTEND;TZID=Europe/London:20250628T190000
DTSTAMP:20260422T234900
CREATED:20250318T120041Z
LAST-MODIFIED:20250318T120041Z
UID:7080-1751115600-1751137200@www.ulverstoncc.co.uk
SUMMARY:2nd XI Away to Arnside
DESCRIPTION:2nd XI Away to Arnside
URL:https://www.ulverstoncc.co.uk/event/2nd-xi-away-to-arnside/
END:VEVENT
BEGIN:VEVENT
DTSTART;TZID=Europe/London:20250628T130000
DTEND;TZID=Europe/London:20250628T190000
DTSTAMP:20260422T234900
CREATED:20250318T115955Z
LAST-MODIFIED:20250318T115956Z
UID:7058-1751115600-1751137200@www.ulverstoncc.co.uk
SUMMARY:1st XI Away to Milnthorpe
DESCRIPTION:1st XI Away to Milnthorpe
URL:https://www.ulverstoncc.co.uk/event/1st-xi-away-to-milnthorpe/
LOCATION:Milnthorpe Cricket Club
END:VEVENT
BEGIN:VEVENT
DTSTART;TZID=Europe/London:20250627T163000
DTEND;TZID=Europe/London:20250627T173000
DTSTAMP:20260422T234900
CREATED:20250318T120825Z
LAST-MODIFIED:20250318T120825Z
UID:7234-1751041800-1751045400@www.ulverstoncc.co.uk
SUMMARY:All Stars & Dynamos
DESCRIPTION:All Stars & Dynamos
URL:https://www.ulverstoncc.co.uk/event/all-stars-dynamos-10/
LOCATION:Ulverston Cricket Club\, Priory Road\, Ulverston\, LA12 9HT\, United Kingdom
END:VEVENT
BEGIN:VEVENT
DTSTART;TZID=Europe/London:20250626T180000
DTEND;TZID=Europe/London:20250626T193000
DTSTAMP:20260422T234900
CREATED:20250318T120256Z
LAST-MODIFIED:20250318T120256Z
UID:7126-1750960800-1750966200@www.ulverstoncc.co.uk
SUMMARY:Comets Practice
DESCRIPTION:Comets Practice
URL:https://www.ulverstoncc.co.uk/event/comets-practice-10/
LOCATION:Ulverston Cricket Club\, Priory Road\, Ulverston\, LA12 9HT\, United Kingdom
END:VEVENT
BEGIN:VEVENT
DTSTART;TZID=Europe/London:20250626T173000
DTEND;TZID=Europe/London:20250626T203000
DTSTAMP:20260422T234900
CREATED:20250414T150717Z
LAST-MODIFIED:20250414T150717Z
UID:7288-1750959000-1750969800@www.ulverstoncc.co.uk
SUMMARY:U16 Boys Ulverston Home to Sedgwick
DESCRIPTION:
URL:https://www.ulverstoncc.co.uk/event/u16-boys-ulverston-home-to-sedgwick/
LOCATION:Ulverston Cricket Club\, Priory Road\, Ulverston\, LA12 9HT\, United Kingdom
END:VEVENT
BEGIN:VEVENT
DTSTART;TZID=Europe/London:20250626T163000
DTEND;TZID=Europe/London:20250626T180000
DTSTAMP:20260422T234900
CREATED:20250318T120541Z
LAST-MODIFIED:20250318T120541Z
UID:7181-1750955400-1750960800@www.ulverstoncc.co.uk
SUMMARY:U11 & U16 Rockets Practice
DESCRIPTION:U11 & U16 Rockets Practice
URL:https://www.ulverstoncc.co.uk/event/u11-u16-rockets-practice-12/
LOCATION:Ulverston Cricket Club\, Priory Road\, Ulverston\, LA12 9HT\, United Kingdom
END:VEVENT
BEGIN:VEVENT
DTSTART;TZID=Europe/London:20250623T180000
DTEND;TZID=Europe/London:20250623T203000
DTSTAMP:20260422T234900
CREATED:20250318T120711Z
LAST-MODIFIED:20250318T120711Z
UID:7211-1750701600-1750710600@www.ulverstoncc.co.uk
SUMMARY:U13 Ulverston Away to Millom
DESCRIPTION:U13 Ulverston Away to Millom
URL:https://www.ulverstoncc.co.uk/event/u13-ulverston-away-to-millom/
LOCATION:Ulverston Cricket Club\, Priory Road\, Ulverston\, LA12 9HT\, United Kingdom
END:VEVENT
BEGIN:VEVENT
DTSTART;TZID=Europe/London:20250622T163000
DTEND;TZID=Europe/London:20250622T163000
DTSTAMP:20260422T234900
CREATED:20250318T120425Z
LAST-MODIFIED:20250318T120425Z
UID:7155-1750609800-1750609800@www.ulverstoncc.co.uk
SUMMARY:U11 & U13 Practice
DESCRIPTION:U11 & U13 Practice
URL:https://www.ulverstoncc.co.uk/event/u11-u13-practice-12/
LOCATION:Ulverston Cricket Club\, Priory Road\, Ulverston\, LA12 9HT\, United Kingdom
END:VEVENT
BEGIN:VEVENT
DTSTART;TZID=Europe/London:20250621T130000
DTEND;TZID=Europe/London:20250621T190000
DTSTAMP:20260422T234900
CREATED:20250318T120111Z
LAST-MODIFIED:20250318T120111Z
UID:7087-1750510800-1750532400@www.ulverstoncc.co.uk
SUMMARY:2nd XI Away to Lindal Moor
DESCRIPTION:2nd XI Away to Lindal Moor
URL:https://www.ulverstoncc.co.uk/event/2nd-xi-away-to-lindal-moor/
LOCATION:Lindal Moor Cricket Club\, Pennington Lane\, Ulverston\, Cumbria\, LA12 0LA\, United Kingdom
END:VEVENT
END:VCALENDAR