BEGIN:VCALENDAR
VERSION:2.0
PRODID:-//Ulverston Cricket Club - ECPv6.15.17.1//NONSGML v1.0//EN
CALSCALE:GREGORIAN
METHOD:PUBLISH
X-ORIGINAL-URL:https://www.ulverstoncc.co.uk
X-WR-CALDESC:Events for Ulverston Cricket Club
REFRESH-INTERVAL;VALUE=DURATION:PT1H
X-Robots-Tag:noindex
X-PUBLISHED-TTL:PT1H
BEGIN:VTIMEZONE
TZID:Europe/London
BEGIN:DAYLIGHT
TZOFFSETFROM:+0000
TZOFFSETTO:+0100
TZNAME:BST
DTSTART:20250330T010000
END:DAYLIGHT
BEGIN:STANDARD
TZOFFSETFROM:+0100
TZOFFSETTO:+0000
TZNAME:GMT
DTSTART:20251026T010000
END:STANDARD
BEGIN:DAYLIGHT
TZOFFSETFROM:+0000
TZOFFSETTO:+0100
TZNAME:BST
DTSTART:20260329T010000
END:DAYLIGHT
BEGIN:STANDARD
TZOFFSETFROM:+0100
TZOFFSETTO:+0000
TZNAME:GMT
DTSTART:20261025T010000
END:STANDARD
BEGIN:DAYLIGHT
TZOFFSETFROM:+0000
TZOFFSETTO:+0100
TZNAME:BST
DTSTART:20270328T010000
END:DAYLIGHT
BEGIN:STANDARD
TZOFFSETFROM:+0100
TZOFFSETTO:+0000
TZNAME:GMT
DTSTART:20271031T010000
END:STANDARD
END:VTIMEZONE
BEGIN:VEVENT
DTSTART;TZID=Europe/London:20260906T163000
DTEND;TZID=Europe/London:20260906T180000
DTSTAMP:20260422T233414
CREATED:20260403T154013Z
LAST-MODIFIED:20260403T154013Z
UID:7568-1788712200-1788717600@www.ulverstoncc.co.uk
SUMMARY:U11 & U13 Practice
DESCRIPTION:U11 & U13 Practice
URL:https://www.ulverstoncc.co.uk/event/u11-u13-practice-41/
LOCATION:Ulverston Cricket Club\, Priory Road\, Ulverston\, LA12 9HT\, United Kingdom
END:VEVENT
BEGIN:VEVENT
DTSTART;TZID=Europe/London:20260910T163000
DTEND;TZID=Europe/London:20260910T180000
DTSTAMP:20260422T233414
CREATED:20260403T153856Z
LAST-MODIFIED:20260403T153856Z
UID:7545-1789057800-1789063200@www.ulverstoncc.co.uk
SUMMARY:U11 & U16 Rockets Practice
DESCRIPTION:U11 & U16 Rockets Practice
URL:https://www.ulverstoncc.co.uk/event/u11-u16-rockets-practice-43/
LOCATION:Ulverston Cricket Club\, Priory Road\, Ulverston\, LA12 9HT\, United Kingdom
END:VEVENT
BEGIN:VEVENT
DTSTART;TZID=Europe/London:20260912T130000
DTEND;TZID=Europe/London:20260912T190000
DTSTAMP:20260422T233414
CREATED:20260403T153255Z
LAST-MODIFIED:20260403T153255Z
UID:7426-1789218000-1789239600@www.ulverstoncc.co.uk
SUMMARY:1st XI Away to Lindal
DESCRIPTION:1st XI Away to Lindal
URL:https://www.ulverstoncc.co.uk/event/1st-xi-away-to-lindal/
LOCATION:Coniston Cricket Club\, Yewdale Road\, Coniston\, Cumbria\, LA21 8ET
END:VEVENT
BEGIN:VEVENT
DTSTART;TZID=Europe/London:20260912T130000
DTEND;TZID=Europe/London:20260912T190000
DTSTAMP:20260422T233414
CREATED:20260403T153441Z
LAST-MODIFIED:20260403T153441Z
UID:7457-1789218000-1789239600@www.ulverstoncc.co.uk
SUMMARY:2nd XI Away to Holme
DESCRIPTION:2nd XI Away to Holme
URL:https://www.ulverstoncc.co.uk/event/2nd-xi-away-to-holme-3/
LOCATION:Holme Cricket Club
END:VEVENT
END:VCALENDAR